BEGIN:VCALENDAR
VERSION:2.0
PRODID:-//La Cie de hirondelles - ECPv6.15.20//NONSGML v1.0//EN
CALSCALE:GREGORIAN
METHOD:PUBLISH
X-WR-CALNAME:La Cie de hirondelles
X-ORIGINAL-URL:http://www.laciedeshirondelles.fr
X-WR-CALDESC:Évènements pour La Cie de hirondelles
REFRESH-INTERVAL;VALUE=DURATION:PT1H
X-Robots-Tag:noindex
X-PUBLISHED-TTL:PT1H
BEGIN:VTIMEZONE
TZID:Europe/Paris
BEGIN:DAYLIGHT
TZOFFSETFROM:+0100
TZOFFSETTO:+0200
TZNAME:CEST
DTSTART:20250330T010000
END:DAYLIGHT
BEGIN:STANDARD
TZOFFSETFROM:+0200
TZOFFSETTO:+0100
TZNAME:CET
DTSTART:20251026T010000
END:STANDARD
BEGIN:DAYLIGHT
TZOFFSETFROM:+0100
TZOFFSETTO:+0200
TZNAME:CEST
DTSTART:20260329T010000
END:DAYLIGHT
BEGIN:STANDARD
TZOFFSETFROM:+0200
TZOFFSETTO:+0100
TZNAME:CET
DTSTART:20261025T010000
END:STANDARD
BEGIN:DAYLIGHT
TZOFFSETFROM:+0100
TZOFFSETTO:+0200
TZNAME:CEST
DTSTART:20270328T010000
END:DAYLIGHT
BEGIN:STANDARD
TZOFFSETFROM:+0200
TZOFFSETTO:+0100
TZNAME:CET
DTSTART:20271031T010000
END:STANDARD
END:VTIMEZONE
BEGIN:VEVENT
DTSTART;TZID=Europe/Paris:20260425T000000
DTEND;TZID=Europe/Paris:20260425T000000
DTSTAMP:20260423T160604
CREATED:20260114T211525Z
LAST-MODIFIED:20260114T211815Z
UID:5114-1777075200-1777075200@www.laciedeshirondelles.fr
SUMMARY:BOEING BOEING
DESCRIPTION:BOEING BOEING mise en Scène Marie-Carmen BENGUEDDA
URL:http://www.laciedeshirondelles.fr/spectacles/boeing-boeing-13/
LOCATION:l’archipel theatre\, avignon\, 84000
ATTACH;FMTTYPE=image/jpeg:http://www.laciedeshirondelles.fr/wp-content/uploads/2025/11/IMG-20251026-WA00011.jpg
END:VEVENT
BEGIN:VEVENT
DTSTART;TZID=Europe/Paris:20260426T080000
DTEND;TZID=Europe/Paris:20260426T170000
DTSTAMP:20260423T160604
CREATED:20260114T211711Z
LAST-MODIFIED:20260114T211711Z
UID:5116-1777190400-1777222800@www.laciedeshirondelles.fr
SUMMARY:BOEING BOEING
DESCRIPTION:BOEING BOEING mise en Scène Marie-Carmen BENGUEDDA
URL:http://www.laciedeshirondelles.fr/spectacles/boeing-boeing-14/
LOCATION:l’archipel theatre\, avignon\, 84000
ATTACH;FMTTYPE=image/jpeg:http://www.laciedeshirondelles.fr/wp-content/uploads/2025/11/IMG-20251026-WA00011.jpg
END:VEVENT
BEGIN:VEVENT
DTSTART;TZID=Europe/Paris:20260507T000000
DTEND;TZID=Europe/Paris:20260507T000000
DTSTAMP:20260423T160604
CREATED:20260114T212722Z
LAST-MODIFIED:20260114T213055Z
UID:5124-1778112000-1778112000@www.laciedeshirondelles.fr
SUMMARY:ET VIVE L'EMPEREUR
DESCRIPTION:ET VIVE L’EMPEREUR DE FREDERIC WICKEL
URL:http://www.laciedeshirondelles.fr/spectacles/5124/
LOCATION:Théâtre la licorne cheval blanc\, 445 route des taillades\, cheval blanc\, France
ATTACH;FMTTYPE=image/jpeg:http://www.laciedeshirondelles.fr/wp-content/uploads/2025/07/Affiche-l-empereur.jpg
END:VEVENT
BEGIN:VEVENT
DTSTART;TZID=Europe/Paris:20260510T000000
DTEND;TZID=Europe/Paris:20260510T000000
DTSTAMP:20260423T160604
CREATED:20260114T210954Z
LAST-MODIFIED:20260114T212144Z
UID:5107-1778371200-1778371200@www.laciedeshirondelles.fr
SUMMARY:BOEING BOEING
DESCRIPTION:BOEING BOEING mise en Scène Marie-Carmen BENGUEDDA
URL:http://www.laciedeshirondelles.fr/spectacles/boeing-boeing-11/
LOCATION:ISLE SUR LA SORGUE\, ISLE SUR LA SORGUE
ATTACH;FMTTYPE=image/jpeg:http://www.laciedeshirondelles.fr/wp-content/uploads/2025/11/IMG-20251026-WA00011.jpg
END:VEVENT
BEGIN:VEVENT
DTSTART;TZID=Europe/Paris:20260606T000000
DTEND;TZID=Europe/Paris:20260606T000000
DTSTAMP:20260423T160604
CREATED:20260114T212341Z
LAST-MODIFIED:20260114T212341Z
UID:5119-1780704000-1780704000@www.laciedeshirondelles.fr
SUMMARY:BOEING BOEING
DESCRIPTION:BOEING BOEING mise en Scène Marie-Carmen BENGUEDDA
URL:http://www.laciedeshirondelles.fr/spectacles/boeing-boeing-15/
LOCATION:THEATRE L’ADRESSE\, AVIGNON
ATTACH;FMTTYPE=image/jpeg:http://www.laciedeshirondelles.fr/wp-content/uploads/2025/11/IMG-20251026-WA00011.jpg
END:VEVENT
BEGIN:VEVENT
DTSTART;TZID=Europe/Paris:20260614T000000
DTEND;TZID=Europe/Paris:20260614T000000
DTSTAMP:20260423T160604
CREATED:20260114T212929Z
LAST-MODIFIED:20260114T212929Z
UID:5126-1781395200-1781395200@www.laciedeshirondelles.fr
SUMMARY:ET VIVE L'EMPEREUR
DESCRIPTION:ET VIVE L’EMPEREUR DE FREDERIC WICKEL
URL:http://www.laciedeshirondelles.fr/spectacles/et-vive-lempereur-3/
LOCATION:L’autre scène\, Av Pierre de Coubertin\, Vedène\, 84270\, France
ATTACH;FMTTYPE=image/jpeg:http://www.laciedeshirondelles.fr/wp-content/uploads/2025/07/Affiche-l-empereur.jpg
END:VEVENT
BEGIN:VEVENT
DTSTART;TZID=Europe/Paris:20260614T143000
DTEND;TZID=Europe/Paris:20260614T163000
DTSTAMP:20260423T160604
CREATED:20251128T222827Z
LAST-MODIFIED:20251128T223736Z
UID:5059-1781447400-1781454600@www.laciedeshirondelles.fr
SUMMARY:BOEING BOEING
DESCRIPTION:BOEING BOEING mise en Scène Marie-Carmen BENGUEDDA
URL:http://www.laciedeshirondelles.fr/spectacles/boeing-boeing-7/
LOCATION:L’autre scène\, Av Pierre de Coubertin\, Vedène\, 84270\, France
ATTACH;FMTTYPE=image/jpeg:http://www.laciedeshirondelles.fr/wp-content/uploads/2025/11/IMG-20251026-WA00011.jpg
END:VEVENT
END:VCALENDAR